BEGIN:VCALENDAR
VERSION:2.0
PRODID:-//Fame of Jesus - ECPv5.1.5//NONSGML v1.0//EN
CALSCALE:GREGORIAN
METHOD:PUBLISH
X-WR-CALNAME:Fame of Jesus
X-ORIGINAL-URL:https://fameofjesus.com
X-WR-CALDESC:Events for Fame of Jesus
BEGIN:VTIMEZONE
TZID:America/New_York
BEGIN:DAYLIGHT
TZOFFSETFROM:-0500
TZOFFSETTO:-0400
TZNAME:EDT
DTSTART:20200308T070000
END:DAYLIGHT
BEGIN:STANDARD
TZOFFSETFROM:-0400
TZOFFSETTO:-0500
TZNAME:EST
DTSTART:20201101T060000
END:STANDARD
END:VTIMEZONE
BEGIN:VEVENT
DTSTART;TZID=America/New_York:20200913T180000
DTEND;TZID=America/New_York:20200913T190000
DTSTAMP:20260425T135714
CREATED:20200809T215933Z
LAST-MODIFIED:20200902T115408Z
UID:14623-1600020000-1600023600@fameofjesus.com
SUMMARY:Let's Talk Living
DESCRIPTION:
URL:https://fameofjesus.com/event/lets-talk-living-3/
CATEGORIES:Events,Online
ORGANIZER;CN="Macheita%20Adams":MAILTO:info@fameofjesus.com
END:VEVENT
END:VCALENDAR