BEGIN:VCALENDAR
VERSION:2.0
PRODID:-//Fame of Jesus - ECPv5.1.5//NONSGML v1.0//EN
CALSCALE:GREGORIAN
METHOD:PUBLISH
X-WR-CALNAME:Fame of Jesus
X-ORIGINAL-URL:https://fameofjesus.com
X-WR-CALDESC:Events for Fame of Jesus
BEGIN:VTIMEZONE
TZID:America/New_York
BEGIN:DAYLIGHT
TZOFFSETFROM:-0500
TZOFFSETTO:-0400
TZNAME:EDT
DTSTART:20200308T070000
END:DAYLIGHT
BEGIN:STANDARD
TZOFFSETFROM:-0400
TZOFFSETTO:-0500
TZNAME:EST
DTSTART:20201101T060000
END:STANDARD
END:VTIMEZONE
BEGIN:VEVENT
DTSTART;TZID=America/New_York:20200907T050000
DTEND;TZID=America/New_York:20200911T060000
DTSTAMP:20260425T135709
CREATED:20200809T215449Z
LAST-MODIFIED:20200902T115537Z
UID:14616-1599454800-1599804000@fameofjesus.com
SUMMARY:Prayer on the Mountain
DESCRIPTION: \n
URL:https://fameofjesus.com/event/prayer-on-the-mountain-5/
CATEGORIES:Events,Online
ATTACH;FMTTYPE=image/jpeg:https://fameofjesus.com/wp-content/uploads/2020/08/Flyer-prayer-2020-scaled.jpg
ORGANIZER;CN="Macheita%20Adams":MAILTO:info@fameofjesus.com
END:VEVENT
END:VCALENDAR